BEGIN:VCALENDAR
VERSION:2.0
PRODID:-//St Barnabas - ECPv6.15.20//NONSGML v1.0//EN
CALSCALE:GREGORIAN
METHOD:PUBLISH
X-ORIGINAL-URL:https://stbarnabascentre.co.uk
X-WR-CALDESC:Events for St Barnabas
REFRESH-INTERVAL;VALUE=DURATION:PT1H
X-Robots-Tag:noindex
X-PUBLISHED-TTL:PT1H
BEGIN:VTIMEZONE
TZID:UTC
BEGIN:STANDARD
TZOFFSETFROM:+0000
TZOFFSETTO:+0000
TZNAME:UTC
DTSTART:20220101T000000
END:STANDARD
END:VTIMEZONE
BEGIN:VEVENT
DTSTART;TZID=UTC:20241021T090000
DTEND;TZID=UTC:20241021T130000
DTSTAMP:20260421T191337
CREATED:20230906T102543Z
LAST-MODIFIED:20241015T080948Z
UID:1573-1729501200-1729515600@stbarnabascentre.co.uk
SUMMARY:Coffee Morning
DESCRIPTION:Coffee and Cake at St Barnabas
URL:https://stbarnabascentre.co.uk/events/coffee-morning
ATTACH;FMTTYPE=image/jpeg:https://stbarnabascentre.co.uk/wp-content/uploads/2024/10/Coffee-morning-scaled.jpg
END:VEVENT
BEGIN:VEVENT
DTSTART;TZID=UTC:20240925T190000
DTEND;TZID=UTC:20240925T220000
DTSTAMP:20260421T191337
CREATED:20240806T113318Z
LAST-MODIFIED:20240910T083837Z
UID:2779-1727290800-1727301600@stbarnabascentre.co.uk
SUMMARY:A Taste of Italy - Cancelled
DESCRIPTION:Forget cooking! – Come and enjoy an evening of Italian food at your local Community Centre. Bar open. \nSadly due to lack of demand this event has been cancelled.
URL:https://stbarnabascentre.co.uk/events/a-taste-of-italy
ATTACH;FMTTYPE=image/jpeg:https://stbarnabascentre.co.uk/wp-content/uploads/2024/08/A-Taste-of-Italy-3-scaled.jpg
END:VEVENT
BEGIN:VEVENT
DTSTART;TZID=UTC:20240822T100000
DTEND;TZID=UTC:20240822T140000
DTSTAMP:20260421T191337
CREATED:20230906T104407Z
LAST-MODIFIED:20240320T125058Z
UID:1596-1724320800-1724335200@stbarnabascentre.co.uk
SUMMARY:Fun Factory
DESCRIPTION: 
URL:https://stbarnabascentre.co.uk/events/fun-factory-9
ATTACH;FMTTYPE=image/jpeg:https://stbarnabascentre.co.uk/wp-content/uploads/2024/03/2024-Fun-factory-no-date.jpg
END:VEVENT
BEGIN:VEVENT
DTSTART;TZID=UTC:20240815T100000
DTEND;TZID=UTC:20240815T140000
DTSTAMP:20260421T191337
CREATED:20230906T104335Z
LAST-MODIFIED:20240320T125141Z
UID:1594-1723716000-1723730400@stbarnabascentre.co.uk
SUMMARY:Fun Factory
DESCRIPTION: 
URL:https://stbarnabascentre.co.uk/events/fun-factory-8
ATTACH;FMTTYPE=image/jpeg:https://stbarnabascentre.co.uk/wp-content/uploads/2024/03/2024-Fun-factory-no-date.jpg
END:VEVENT
BEGIN:VEVENT
DTSTART;TZID=UTC:20240808T100000
DTEND;TZID=UTC:20240808T140000
DTSTAMP:20260421T191337
CREATED:20230906T104300Z
LAST-MODIFIED:20240320T125204Z
UID:1592-1723111200-1723125600@stbarnabascentre.co.uk
SUMMARY:Fun Factory
DESCRIPTION: 
URL:https://stbarnabascentre.co.uk/events/fun-factory-7
ATTACH;FMTTYPE=image/jpeg:https://stbarnabascentre.co.uk/wp-content/uploads/2024/03/2024-Fun-factory-no-date.jpg
END:VEVENT
BEGIN:VEVENT
DTSTART;TZID=UTC:20240803T120000
DTEND;TZID=UTC:20240803T160000
DTSTAMP:20260421T191337
CREATED:20240412T102945Z
LAST-MODIFIED:20240412T103018Z
UID:2323-1722686400-1722700800@stbarnabascentre.co.uk
SUMMARY:Free Community Fun day
DESCRIPTION:Come along to our Free Community Fun Day! \nBouncy Castle\, Face Painting\, Music\, Games\, Soft Play and Ice Cream Van. \nEverything you need to entertain your kids! \n 
URL:https://stbarnabascentre.co.uk/events/free-community-fun-day
ATTACH;FMTTYPE=image/jpeg:https://stbarnabascentre.co.uk/wp-content/uploads/2024/04/Community-Fun-Day-scaled.jpg
END:VEVENT
BEGIN:VEVENT
DTSTART;TZID=UTC:20240801T100000
DTEND;TZID=UTC:20240801T140000
DTSTAMP:20260421T191337
CREATED:20230906T104228Z
LAST-MODIFIED:20240521T120814Z
UID:1590-1722506400-1722520800@stbarnabascentre.co.uk
SUMMARY:Fun Factory
DESCRIPTION: 
URL:https://stbarnabascentre.co.uk/events/fun-factory-6
ATTACH;FMTTYPE=image/jpeg:https://stbarnabascentre.co.uk/wp-content/uploads/2024/05/Fun-Factory-Support-scaled.jpg
END:VEVENT
BEGIN:VEVENT
DTSTART;TZID=UTC:20240725T100000
DTEND;TZID=UTC:20240725T140000
DTSTAMP:20260421T191337
CREATED:20230906T104153Z
LAST-MODIFIED:20240521T120727Z
UID:1588-1721901600-1721916000@stbarnabascentre.co.uk
SUMMARY:Fun Factory
DESCRIPTION: 
URL:https://stbarnabascentre.co.uk/events/fun-factory-5
ATTACH;FMTTYPE=image/jpeg:https://stbarnabascentre.co.uk/wp-content/uploads/2024/05/Fun-Factory-Support-scaled.jpg
END:VEVENT
BEGIN:VEVENT
DTSTART;TZID=UTC:20240720T100000
DTEND;TZID=UTC:20240720T160000
DTSTAMP:20260421T191337
CREATED:20230906T102432Z
LAST-MODIFIED:20240712T080823Z
UID:1571-1721469600-1721491200@stbarnabascentre.co.uk
SUMMARY:Summer Fayre
DESCRIPTION: 
URL:https://stbarnabascentre.co.uk/events/summer-fayre
ATTACH;FMTTYPE=image/jpeg:https://stbarnabascentre.co.uk/wp-content/uploads/2024/02/20240227084132966_0001.jpg
END:VEVENT
BEGIN:VEVENT
DTSTART;TZID=UTC:20240530T100000
DTEND;TZID=UTC:20240530T140000
DTSTAMP:20260421T191337
CREATED:20240220T125330Z
LAST-MODIFIED:20240521T120638Z
UID:2131-1717063200-1717077600@stbarnabascentre.co.uk
SUMMARY:Fun Factory
DESCRIPTION:
URL:https://stbarnabascentre.co.uk/events/fun-factory-11
ATTACH;FMTTYPE=image/jpeg:https://stbarnabascentre.co.uk/wp-content/uploads/2024/05/Fun-Factory-Support-scaled.jpg
END:VEVENT
BEGIN:VEVENT
DTSTART;TZID=UTC:20240518T190000
DTEND;TZID=UTC:20240518T220000
DTSTAMP:20260421T191337
CREATED:20240219T140622Z
LAST-MODIFIED:20240219T140622Z
UID:2123-1716058800-1716069600@stbarnabascentre.co.uk
SUMMARY:A Taste of Mexico
DESCRIPTION:The St Barnabas Team invite you to ‘A Taste of Mexico’. \nA three course mexican inspired menu coming to a community centre near you! \nBook early to avoid disappointment.
URL:https://stbarnabascentre.co.uk/events/a-taste-of-mexico
ATTACH;FMTTYPE=image/jpeg:https://stbarnabascentre.co.uk/wp-content/uploads/2024/02/Mexican-Food-Evening-Poster-scaled.jpg
END:VEVENT
BEGIN:VEVENT
DTSTART;TZID=UTC:20240416T163000
DTEND;TZID=UTC:20240416T180000
DTSTAMP:20260421T191337
CREATED:20240404T123503Z
LAST-MODIFIED:20240404T123503Z
UID:2299-1713285000-1713290400@stbarnabascentre.co.uk
SUMMARY:St Barnabas AGM
DESCRIPTION:St Barnabas Annual General Meeting 2024 \nOpen meeting for all those interested in the operation of the centre. \nCome and hear what is going on and share your views. \n 
URL:https://stbarnabascentre.co.uk/events/st-barnabas-agm
ATTACH;FMTTYPE=image/jpeg:https://stbarnabascentre.co.uk/wp-content/uploads/2024/04/AGM-Poster.jpg
END:VEVENT
BEGIN:VEVENT
DTSTART;TZID=UTC:20240411T100000
DTEND;TZID=UTC:20240411T140000
DTSTAMP:20260421T191337
CREATED:20230906T104113Z
LAST-MODIFIED:20240404T123027Z
UID:1586-1712829600-1712844000@stbarnabascentre.co.uk
SUMMARY:Fun Factory
DESCRIPTION: 
URL:https://stbarnabascentre.co.uk/events/fun-factory-4
ATTACH;FMTTYPE=image/jpeg:https://stbarnabascentre.co.uk/wp-content/uploads/2024/04/20240404091647004_0001-scaled.jpg
END:VEVENT
BEGIN:VEVENT
DTSTART;TZID=UTC:20240406T100000
DTEND;TZID=UTC:20240406T140000
DTSTAMP:20260421T191337
CREATED:20230906T102320Z
LAST-MODIFIED:20240320T130018Z
UID:1569-1712397600-1712412000@stbarnabascentre.co.uk
SUMMARY:St Barnabas Easter Fair
DESCRIPTION:Come and join us at our Easter Fair and meet the Easter bunny
URL:https://stbarnabascentre.co.uk/events/easter-fayre
ATTACH;FMTTYPE=image/jpeg:https://stbarnabascentre.co.uk/wp-content/uploads/2024/03/Easter-fair-2024.jpg
END:VEVENT
BEGIN:VEVENT
DTSTART;TZID=UTC:20240404T100000
DTEND;TZID=UTC:20240404T140000
DTSTAMP:20260421T191337
CREATED:20230906T104033Z
LAST-MODIFIED:20240320T125429Z
UID:1584-1712224800-1712239200@stbarnabascentre.co.uk
SUMMARY:Fun Factory
DESCRIPTION: 
URL:https://stbarnabascentre.co.uk/events/fun-factory-3
ATTACH;FMTTYPE=image/jpeg:https://stbarnabascentre.co.uk/wp-content/uploads/2024/03/2024-Fun-factory-no-date.jpg
END:VEVENT
BEGIN:VEVENT
DTSTART;VALUE=DATE:20240324
DTEND;VALUE=DATE:20240325
DTSTAMP:20260421T191337
CREATED:20240109T152745Z
LAST-MODIFIED:20240109T153126Z
UID:2002-1711238400-1711324799@stbarnabascentre.co.uk
SUMMARY:Breakfast with the Easter Bunny
DESCRIPTION:Come and join the Easter Bunny for breakfast. \nTwo sittings : 9 – 10am and 10.30 – 11.30am. \nChildren must be accompanied by a paying adult. £8.50 per person. \nTickets from the St Barnabas Office \n 
URL:https://stbarnabascentre.co.uk/events/breakfast-with-the-easter-bunny-4
ATTACH;FMTTYPE=image/jpeg:https://stbarnabascentre.co.uk/wp-content/uploads/2024/01/2024-Breakfast-with-Easter-Bunny-scaled.jpg
END:VEVENT
BEGIN:VEVENT
DTSTART;TZID=UTC:20240222T100000
DTEND;TZID=UTC:20240222T140000
DTSTAMP:20260421T191337
CREATED:20230906T103936Z
LAST-MODIFIED:20240109T152901Z
UID:1582-1708596000-1708610400@stbarnabascentre.co.uk
SUMMARY:Fun Factory
DESCRIPTION:Need something to occupy your children during half term ? – come along to Barnie’s Fun Factory. \nEntrance – free
URL:https://stbarnabascentre.co.uk/events/fun-factory-2
ATTACH;FMTTYPE=image/jpeg:https://stbarnabascentre.co.uk/wp-content/uploads/2024/01/2024-Feb-Fun-Factory-scaled.jpg
END:VEVENT
BEGIN:VEVENT
DTSTART;TZID=UTC:20240212T090000
DTEND;TZID=UTC:20240212T130000
DTSTAMP:20260421T191337
CREATED:20230906T103623Z
LAST-MODIFIED:20240109T151459Z
UID:1580-1707728400-1707742800@stbarnabascentre.co.uk
SUMMARY:Cake and Coffee Morning
DESCRIPTION:Start your week with coffee and cake . . . . . 
URL:https://stbarnabascentre.co.uk/events/coffee-morning-2
ATTACH;FMTTYPE=image/jpeg:https://stbarnabascentre.co.uk/wp-content/uploads/2024/01/2024-Cake-and-Coffee-scaled.jpg
END:VEVENT
BEGIN:VEVENT
DTSTART;TZID=UTC:20240203T190000
DTEND;TZID=UTC:20240203T220000
DTSTAMP:20260421T191337
CREATED:20231124T103947Z
LAST-MODIFIED:20240109T152952Z
UID:1812-1706986800-1706997600@stbarnabascentre.co.uk
SUMMARY:St Barnabas Quiz Night
DESCRIPTION:Come as a team and enjoy a fun filled evening. Tickets £6.50 – including food! \nTickets can be purchased from the St Barnabas office.
URL:https://stbarnabascentre.co.uk/events/st-barnabas-quiz-night
ATTACH;FMTTYPE=image/jpeg:https://stbarnabascentre.co.uk/wp-content/uploads/2023/11/Quiz-Night-feb-2024-poster.jpg
END:VEVENT
BEGIN:VEVENT
DTSTART;TZID=UTC:20231217T170000
DTEND;TZID=UTC:20231217T180000
DTSTAMP:20260421T191337
CREATED:20231124T121055Z
LAST-MODIFIED:20231124T121057Z
UID:1818-1702832400-1702836000@stbarnabascentre.co.uk
SUMMARY:Christingle Celebration
DESCRIPTION:Celebrate Christingle here at St Barnabas.
URL:https://stbarnabascentre.co.uk/events/christingle-celebration
ATTACH;FMTTYPE=image/jpeg:https://stbarnabascentre.co.uk/wp-content/uploads/2023/11/christingle-poster-23-scaled.jpg
END:VEVENT
BEGIN:VEVENT
DTSTART;TZID=UTC:20231217T090000
DTEND;TZID=UTC:20231217T113000
DTSTAMP:20260421T191337
CREATED:20230918T123811Z
LAST-MODIFIED:20230918T123813Z
UID:1647-1702803600-1702812600@stbarnabascentre.co.uk
SUMMARY:Breakfast with the Grinch
DESCRIPTION:
URL:https://stbarnabascentre.co.uk/events/breakfast-with-the-grinch-2
ATTACH;FMTTYPE=image/jpeg:https://stbarnabascentre.co.uk/wp-content/uploads/2023/09/Grinch-scaled.jpg
END:VEVENT
BEGIN:VEVENT
DTSTART;TZID=UTC:20231210T090000
DTEND;TZID=UTC:20231210T113000
DTSTAMP:20260421T191337
CREATED:20230918T123713Z
LAST-MODIFIED:20230918T123726Z
UID:1644-1702198800-1702207800@stbarnabascentre.co.uk
SUMMARY:Breakfast with the Grinch
DESCRIPTION:
URL:https://stbarnabascentre.co.uk/events/breahfast-with-the-grinch
ATTACH;FMTTYPE=image/jpeg:https://stbarnabascentre.co.uk/wp-content/uploads/2023/09/Grinch-scaled.jpg
END:VEVENT
BEGIN:VEVENT
DTSTART;TZID=UTC:20231204T090000
DTEND;TZID=UTC:20240329T170000
DTSTAMP:20260421T191337
CREATED:20231130T124057Z
LAST-MODIFIED:20231204T100304Z
UID:1832-1701680400-1711731600@stbarnabascentre.co.uk
SUMMARY:St Barnabas Warm Space
DESCRIPTION:Come and use our warm space this winter. Open Monday to Friday 9-5pm except bank holidays and Christmas week. Have a hot drink and a biscuit\, watch the TV\, play a game\, have a chat. . . .
URL:https://stbarnabascentre.co.uk/events/st-barnabas-warm-space
ATTACH;FMTTYPE=image/png:https://stbarnabascentre.co.uk/wp-content/uploads/2023/11/Warm-Space-poster.png
END:VEVENT
BEGIN:VEVENT
DTSTART;TZID=UTC:20231203T090000
DTEND;TZID=UTC:20231203T233000
DTSTAMP:20260421T191337
CREATED:20230918T123415Z
LAST-MODIFIED:20230918T123505Z
UID:1642-1701594000-1701646200@stbarnabascentre.co.uk
SUMMARY:Breakfast with the Grinch
DESCRIPTION:
URL:https://stbarnabascentre.co.uk/events/breakfast-with-the-grinch
ATTACH;FMTTYPE=image/jpeg:https://stbarnabascentre.co.uk/wp-content/uploads/2023/09/Grinch-scaled.jpg
END:VEVENT
BEGIN:VEVENT
DTSTART;TZID=UTC:20231125T100000
DTEND;TZID=UTC:20231125T140000
DTSTAMP:20260421T191337
CREATED:20230906T101741Z
LAST-MODIFIED:20230906T102046Z
UID:1566-1700906400-1700920800@stbarnabascentre.co.uk
SUMMARY:Christmas Fayre
DESCRIPTION:Come and meet Santa in his grotto. Stalls selling Christmas gifts. Hot chocolate\, mulled wine and festive food available. Live performance from the Mansfield Ukulele Group. And much more . . . .
URL:https://stbarnabascentre.co.uk/events/christmas-fayre
ATTACH;FMTTYPE=image/jpeg:https://stbarnabascentre.co.uk/wp-content/uploads/2023/09/christmas-market.jpg
END:VEVENT
BEGIN:VEVENT
DTSTART;TZID=UTC:20231111T190000
DTEND;TZID=UTC:20231111T230000
DTSTAMP:20260421T191337
CREATED:20231017T121146Z
LAST-MODIFIED:20231017T121149Z
UID:1706-1699729200-1699743600@stbarnabascentre.co.uk
SUMMARY:Quiz Night
DESCRIPTION:Create a team and come and enjoy Quiz Night at St Barnabas. £5 per ticket including supper.
URL:https://stbarnabascentre.co.uk/events/quiz-night
ATTACH;FMTTYPE=image/jpeg:https://stbarnabascentre.co.uk/wp-content/uploads/2023/10/Quiz-night-scaled.jpg
END:VEVENT
BEGIN:VEVENT
DTSTART;TZID=UTC:20231111T104500
DTEND;TZID=UTC:20231111T111500
DTSTAMP:20260421T191337
CREATED:20231017T121548Z
LAST-MODIFIED:20231017T121550Z
UID:1708-1699699500-1699701300@stbarnabascentre.co.uk
SUMMARY:Remembrance Service
DESCRIPTION:Act of Remembrance and laying of wreaths at the War Memorial
URL:https://stbarnabascentre.co.uk/events/remembrance-service
ATTACH;FMTTYPE=image/jpeg:https://stbarnabascentre.co.uk/wp-content/uploads/2023/10/Remembrance-Service-scaled.jpg
END:VEVENT
BEGIN:VEVENT
DTSTART;TZID=UTC:20231105T170000
DTEND;TZID=UTC:20231105T180000
DTSTAMP:20260421T191337
CREATED:20231017T121810Z
LAST-MODIFIED:20231017T121812Z
UID:1710-1699203600-1699207200@stbarnabascentre.co.uk
SUMMARY:Testimony
DESCRIPTION:Come and hear how God is helping people today at an informal cafe style meeting.
URL:https://stbarnabascentre.co.uk/events/testimony
ATTACH;FMTTYPE=image/jpeg:https://stbarnabascentre.co.uk/wp-content/uploads/2023/10/Testimony-November-23-scaled.jpg
END:VEVENT
BEGIN:VEVENT
DTSTART;TZID=UTC:20231102T183000
DTEND;TZID=UTC:20231102T203000
DTSTAMP:20260421T191337
CREATED:20231017T120750Z
LAST-MODIFIED:20231017T120752Z
UID:1700-1698949800-1698957000@stbarnabascentre.co.uk
SUMMARY:Fashion Show
DESCRIPTION:Fashion Show at St Barnabas – £5 Entry fee
URL:https://stbarnabascentre.co.uk/events/fashion-show
ATTACH;FMTTYPE=image/jpeg:https://stbarnabascentre.co.uk/wp-content/uploads/2023/10/Fashion-Show-scaled.jpg
END:VEVENT
BEGIN:VEVENT
DTSTART;TZID=UTC:20231102T100000
DTEND;TZID=UTC:20231102T140000
DTSTAMP:20260421T191337
CREATED:20230906T103330Z
LAST-MODIFIED:20231018T140220Z
UID:1577-1698919200-1698933600@stbarnabascentre.co.uk
SUMMARY:Fun Factory
DESCRIPTION:Bring your little ones down to the centre to play on the bouncy castle\, the soft play and the ball pool. Entrance Free. Cafe with drinks and food available.
URL:https://stbarnabascentre.co.uk/events/fun-factory
ATTACH;FMTTYPE=image/jpeg:https://stbarnabascentre.co.uk/wp-content/uploads/2023/09/BBS.jpg
END:VEVENT
END:VCALENDAR