BEGIN:VCALENDAR
VERSION:2.0
PRODID:-//St Barnabas - ECPv6.15.20//NONSGML v1.0//EN
CALSCALE:GREGORIAN
METHOD:PUBLISH
X-WR-CALNAME:St Barnabas
X-ORIGINAL-URL:https://stbarnabascentre.co.uk
X-WR-CALDESC:Events for St Barnabas
REFRESH-INTERVAL;VALUE=DURATION:PT1H
X-Robots-Tag:noindex
X-PUBLISHED-TTL:PT1H
BEGIN:VTIMEZONE
TZID:UTC
BEGIN:STANDARD
TZOFFSETFROM:+0000
TZOFFSETTO:+0000
TZNAME:UTC
DTSTART:20230101T000000
END:STANDARD
END:VTIMEZONE
BEGIN:VEVENT
DTSTART;TZID=UTC:20250408T163000
DTEND;TZID=UTC:20250408T180000
DTSTAMP:20260421T144412
CREATED:20250305T100851Z
LAST-MODIFIED:20250305T100851Z
UID:2999-1744129800-1744135200@stbarnabascentre.co.uk
SUMMARY:St Barnabas Centre AGM
DESCRIPTION:The Annual General Meeting of the St Barnabas Centre will take place on Tuesday 8th April at 4.30pm \n  \n 
URL:https://stbarnabascentre.co.uk/events/st-barnabas-centre-agm
ATTACH;FMTTYPE=image/jpeg:https://stbarnabascentre.co.uk/wp-content/uploads/2025/03/AGM-2025-Poster.jpg
END:VEVENT
BEGIN:VEVENT
DTSTART;TZID=UTC:20250329T100000
DTEND;TZID=UTC:20250329T140000
DTSTAMP:20260421T144413
CREATED:20250107T093039Z
LAST-MODIFIED:20250107T093039Z
UID:2952-1743242400-1743256800@stbarnabascentre.co.uk
SUMMARY:Easter Fair
DESCRIPTION:Join us for our Easter Fair with the Easter Bunny
URL:https://stbarnabascentre.co.uk/events/easter-fair
ATTACH;FMTTYPE=image/jpeg:https://stbarnabascentre.co.uk/wp-content/uploads/2025/01/Easter-Fair-Poster.jpg
END:VEVENT
BEGIN:VEVENT
DTSTART;TZID=UTC:20250315T193000
DTEND;TZID=UTC:20250315T213000
DTSTAMP:20260421T144413
CREATED:20250131T095935Z
LAST-MODIFIED:20250131T095935Z
UID:2986-1742067000-1742074200@stbarnabascentre.co.uk
SUMMARY:An Evening with James Cary
DESCRIPTION:Come and enjoy an evening with James Cary\, BBC comedy writer\, while he talks about God\, The Bible and Everything.
URL:https://stbarnabascentre.co.uk/events/an-evening-with-james-cary
ATTACH;FMTTYPE=image/png:https://stbarnabascentre.co.uk/wp-content/uploads/2025/01/James-Cary-Poster-v3-002.png
END:VEVENT
BEGIN:VEVENT
DTSTART;TZID=UTC:20250309T160000
DTEND;TZID=UTC:20250309T170000
DTSTAMP:20260421T144413
CREATED:20250206T145152Z
LAST-MODIFIED:20250206T145152Z
UID:2997-1741536000-1741539600@stbarnabascentre.co.uk
SUMMARY:St Barnabas @4
DESCRIPTION:
URL:https://stbarnabascentre.co.uk/events/st-barnabas-4-3
ATTACH;FMTTYPE=image/jpeg:https://stbarnabascentre.co.uk/wp-content/uploads/2025/02/Barnabas@4-Portrait.jpg
END:VEVENT
BEGIN:VEVENT
DTSTART;TZID=UTC:20250302T160000
DTEND;TZID=UTC:20250302T170000
DTSTAMP:20260421T144413
CREATED:20250206T145111Z
LAST-MODIFIED:20250206T145111Z
UID:2995-1740931200-1740934800@stbarnabascentre.co.uk
SUMMARY:St Barnabas @4
DESCRIPTION:
URL:https://stbarnabascentre.co.uk/events/st-barnabas-4-2
ATTACH;FMTTYPE=image/jpeg:https://stbarnabascentre.co.uk/wp-content/uploads/2025/02/Barnabas@4-Portrait.jpg
END:VEVENT
BEGIN:VEVENT
DTSTART;TZID=UTC:20250223T160000
DTEND;TZID=UTC:20250223T170000
DTSTAMP:20260421T144413
CREATED:20250206T144543Z
LAST-MODIFIED:20250206T145003Z
UID:2992-1740326400-1740330000@stbarnabascentre.co.uk
SUMMARY:St Barnabas @ 4
DESCRIPTION:
URL:https://stbarnabascentre.co.uk/events/st-barnabas-4
ATTACH;FMTTYPE=image/jpeg:https://stbarnabascentre.co.uk/wp-content/uploads/2025/02/Barnabas@4-Portrait.jpg
END:VEVENT
BEGIN:VEVENT
DTSTART;TZID=UTC:20250219T100000
DTEND;TZID=UTC:20250219T140000
DTSTAMP:20260421T144413
CREATED:20250110T102542Z
LAST-MODIFIED:20250110T102542Z
UID:2971-1739959200-1739973600@stbarnabascentre.co.uk
SUMMARY:Fun Factory
DESCRIPTION:Fun Factory opens its doors again in 2025. . . . \nPlease note that the Fun Factory is running on Wednesdays in school holidays this year.
URL:https://stbarnabascentre.co.uk/events/fun-factory-10
ATTACH;FMTTYPE=image/jpeg:https://stbarnabascentre.co.uk/wp-content/uploads/2025/01/Fun-factory-Feb-2025-scaled.jpg
END:VEVENT
BEGIN:VEVENT
DTSTART;TZID=UTC:20250210T090000
DTEND;TZID=UTC:20250210T130000
DTSTAMP:20260421T144413
CREATED:20250110T112755Z
LAST-MODIFIED:20250110T112755Z
UID:2974-1739178000-1739192400@stbarnabascentre.co.uk
SUMMARY:Coffee Morning
DESCRIPTION:Come and join us for Coffee and Cake
URL:https://stbarnabascentre.co.uk/events/coffee-morning-3
ATTACH;FMTTYPE=image/jpeg:https://stbarnabascentre.co.uk/wp-content/uploads/2025/01/coffee-morning-10-Feb-scaled.jpg
END:VEVENT
BEGIN:VEVENT
DTSTART;TZID=UTC:20250131T130000
DTEND;TZID=UTC:20250131T150000
DTSTAMP:20260421T144413
CREATED:20250110T093853Z
LAST-MODIFIED:20250110T093853Z
UID:2965-1738328400-1738335600@stbarnabascentre.co.uk
SUMMARY:Little Fishes Toddler Group
DESCRIPTION:
URL:https://stbarnabascentre.co.uk/events/little-fishes-toddler-group-3
ATTACH;FMTTYPE=image/jpeg:https://stbarnabascentre.co.uk/wp-content/uploads/2025/01/Little-Fishes-scaled.jpg
END:VEVENT
BEGIN:VEVENT
DTSTART;TZID=UTC:20250124T130000
DTEND;TZID=UTC:20250124T150000
DTSTAMP:20260421T144413
CREATED:20250110T093810Z
LAST-MODIFIED:20250110T093810Z
UID:2963-1737723600-1737730800@stbarnabascentre.co.uk
SUMMARY:Little Fishes Toddler Group
DESCRIPTION:
URL:https://stbarnabascentre.co.uk/events/little-fishes-toddler-group-2
ATTACH;FMTTYPE=image/jpeg:https://stbarnabascentre.co.uk/wp-content/uploads/2025/01/Little-Fishes-scaled.jpg
END:VEVENT
BEGIN:VEVENT
DTSTART;TZID=UTC:20250117T130000
DTEND;TZID=UTC:20250117T150000
DTSTAMP:20260421T144413
CREATED:20250110T093722Z
LAST-MODIFIED:20250110T093722Z
UID:2961-1737118800-1737126000@stbarnabascentre.co.uk
SUMMARY:Little Fishes Toddler Group
DESCRIPTION:
URL:https://stbarnabascentre.co.uk/events/little-fishes-toddler-group
ATTACH;FMTTYPE=image/jpeg:https://stbarnabascentre.co.uk/wp-content/uploads/2025/01/Little-Fishes-scaled.jpg
END:VEVENT
BEGIN:VEVENT
DTSTART;TZID=UTC:20250116T133000
DTEND;TZID=UTC:20250116T143000
DTSTAMP:20260421T144413
CREATED:20250110T094332Z
LAST-MODIFIED:20250110T094332Z
UID:2968-1737034200-1737037800@stbarnabascentre.co.uk
SUMMARY:Hope Explored
DESCRIPTION:Hope Explored – a 3 week introduction to the Christian Faith
URL:https://stbarnabascentre.co.uk/events/hope-explored
ATTACH;FMTTYPE=image/png:https://stbarnabascentre.co.uk/wp-content/uploads/2025/01/Hope-Poster.png
END:VEVENT
BEGIN:VEVENT
DTSTART;TZID=UTC:20250110T130000
DTEND;TZID=UTC:20250110T150000
DTSTAMP:20260421T144413
CREATED:20250109T135048Z
LAST-MODIFIED:20250109T135206Z
UID:2956-1736514000-1736521200@stbarnabascentre.co.uk
SUMMARY:Little Fishes
DESCRIPTION:New Parent and Toddler group starts this Friday at 1pm at the St Barnabas Centre. \nCome and join the fun!
URL:https://stbarnabascentre.co.uk/events/little-fishes
ATTACH;FMTTYPE=image/jpeg:https://stbarnabascentre.co.uk/wp-content/uploads/2025/01/Little-Fishes-scaled.jpg
END:VEVENT
BEGIN:VEVENT
DTSTART;TZID=UTC:20241215T090000
DTEND;TZID=UTC:20241215T120000
DTSTAMP:20260421T144413
CREATED:20240712T110817Z
LAST-MODIFIED:20240712T113213Z
UID:2668-1734253200-1734264000@stbarnabascentre.co.uk
SUMMARY:Breakfast with the Grinch
DESCRIPTION:Breakfast with the Grinch is back again for 2024. \nTwo sittings : \n9 – 10am and 10.30 – 11am \nBook early to avoid disappointment.
URL:https://stbarnabascentre.co.uk/events/breakfast-with-the-grinch-4
ATTACH;FMTTYPE=image/jpeg:https://stbarnabascentre.co.uk/wp-content/uploads/2024/07/the-grinch-2024-breakfast-scaled-e1720773296437.jpg
END:VEVENT
BEGIN:VEVENT
DTSTART;TZID=UTC:20241208T170000
DTEND;TZID=UTC:20241208T180000
DTSTAMP:20260421T144413
CREATED:20241108T102008Z
LAST-MODIFIED:20241108T102516Z
UID:2922-1733677200-1733680800@stbarnabascentre.co.uk
SUMMARY:Christingle Family Evening
DESCRIPTION:Come and join us for our Family Christingle celebration
URL:https://stbarnabascentre.co.uk/events/christingle-family-evening
ATTACH;FMTTYPE=image/jpeg:https://stbarnabascentre.co.uk/wp-content/uploads/2024/11/Christingle-scaled.jpg
END:VEVENT
BEGIN:VEVENT
DTSTART;TZID=UTC:20241208T090000
DTEND;TZID=UTC:20241208T120000
DTSTAMP:20260421T144413
CREATED:20240712T110748Z
LAST-MODIFIED:20240712T111137Z
UID:2666-1733648400-1733659200@stbarnabascentre.co.uk
SUMMARY:Breakfast with the Grinch
DESCRIPTION:Breakfast with the Grinch is back again for 2024. \nTwo sittings : \n9 – 10am and 10.30 – 11am \nBook early to avoid disappointment. \n 
URL:https://stbarnabascentre.co.uk/events/breakfast-with-the-grinch-3
ATTACH;FMTTYPE=image/jpeg:https://stbarnabascentre.co.uk/wp-content/uploads/2024/07/the-grinch-2024-breakfast-scaled-e1720773296437.jpg
END:VEVENT
BEGIN:VEVENT
DTSTART;TZID=UTC:20241201T090000
DTEND;TZID=UTC:20241201T120000
DTSTAMP:20260421T144413
CREATED:20240712T110855Z
LAST-MODIFIED:20240712T113130Z
UID:2670-1733043600-1733054400@stbarnabascentre.co.uk
SUMMARY:Breakfast with the Grinch
DESCRIPTION:Breakfast with the Grinch is back again for 2024. \nTwo sittings : \n9 – 10am and 10.30 – 11am \nBook early to avoid disappointment.
URL:https://stbarnabascentre.co.uk/events/breakfast-with-the-grinch-5
ATTACH;FMTTYPE=image/jpeg:https://stbarnabascentre.co.uk/wp-content/uploads/2024/07/the-grinch-2024-breakfast-scaled-e1720773296437.jpg
END:VEVENT
BEGIN:VEVENT
DTSTART;TZID=UTC:20241130T180000
DTEND;TZID=UTC:20241130T190000
DTSTAMP:20260421T144413
CREATED:20241108T101429Z
LAST-MODIFIED:20241108T101509Z
UID:2917-1732989600-1732993200@stbarnabascentre.co.uk
SUMMARY:Tree of Light Evening
DESCRIPTION:Come and join us for our Christmas Tree Light Turn On \nSpecial Guest : RUDOLPH !
URL:https://stbarnabascentre.co.uk/events/tree-of-light-evening
ATTACH;FMTTYPE=image/jpeg:https://stbarnabascentre.co.uk/wp-content/uploads/2024/11/Tree-of-Light-scaled.jpg
END:VEVENT
BEGIN:VEVENT
DTSTART;TZID=UTC:20241123T100000
DTEND;TZID=UTC:20241123T140000
DTSTAMP:20260421T144413
CREATED:20230906T102700Z
LAST-MODIFIED:20240712T082604Z
UID:1575-1732356000-1732370400@stbarnabascentre.co.uk
SUMMARY:Christmas Market
DESCRIPTION: 
URL:https://stbarnabascentre.co.uk/events/christmas-market
ATTACH;FMTTYPE=image/jpeg:https://stbarnabascentre.co.uk/wp-content/uploads/2024/07/Christ-market-2024-scaled.jpg
END:VEVENT
BEGIN:VEVENT
DTSTART;TZID=UTC:20241116T190000
DTEND;TZID=UTC:20241116T220000
DTSTAMP:20260421T144413
CREATED:20240220T091605Z
LAST-MODIFIED:20240712T082925Z
UID:2129-1731783600-1731794400@stbarnabascentre.co.uk
SUMMARY:St Barnabas Quiz Night
DESCRIPTION:Another St Barnabas Quiz night. Come with friends\, create a team. A fun evening with food included.
URL:https://stbarnabascentre.co.uk/events/st-barnabas-quiz-night-2
ATTACH;FMTTYPE=image/jpeg:https://stbarnabascentre.co.uk/wp-content/uploads/2024/07/Quiz-night-16-Nov-scaled.jpg
END:VEVENT
BEGIN:VEVENT
DTSTART;TZID=UTC:20241113T090000
DTEND;TZID=UTC:20241113T130000
DTSTAMP:20260421T144413
CREATED:20241025T092843Z
LAST-MODIFIED:20241025T092843Z
UID:2912-1731488400-1731502800@stbarnabascentre.co.uk
SUMMARY:Warm Welcome Space - Opening
DESCRIPTION:The Opening day of the St Barnabas Warm Welcome Space
URL:https://stbarnabascentre.co.uk/events/warm-welcome-space-opening
ATTACH;FMTTYPE=image/jpeg:https://stbarnabascentre.co.uk/wp-content/uploads/2024/10/St-Barnabas-Warm-Welcome-Space-2-scaled.jpg
END:VEVENT
BEGIN:VEVENT
DTSTART;TZID=UTC:20241102T100000
DTEND;TZID=UTC:20241102T120000
DTSTAMP:20260421T144413
CREATED:20241025T093135Z
LAST-MODIFIED:20241025T093135Z
UID:2915-1730541600-1730548800@stbarnabascentre.co.uk
SUMMARY:Community Garden Working Morning
DESCRIPTION:
URL:https://stbarnabascentre.co.uk/events/community-garden-working-morning
ATTACH;FMTTYPE=image/jpeg:https://stbarnabascentre.co.uk/wp-content/uploads/2024/10/People-wanted.jpg
END:VEVENT
BEGIN:VEVENT
DTSTART;TZID=UTC:20241102T073000
DTEND;TZID=UTC:20241102T223000
DTSTAMP:20260421T144413
CREATED:20240712T084002Z
LAST-MODIFIED:20240712T113814Z
UID:2664-1730532600-1730586600@stbarnabascentre.co.uk
SUMMARY:The Decoys
DESCRIPTION:Live Music at St Barnabas. \nLocal Band – The Decoys playing covers of famous hits. \nBar open. \nFree Entrance
URL:https://stbarnabascentre.co.uk/events/the-decoys
ATTACH;FMTTYPE=image/jpeg:https://stbarnabascentre.co.uk/wp-content/uploads/2024/07/The-Decoys-2-Nov-scaled.jpg
END:VEVENT
BEGIN:VEVENT
DTSTART;TZID=UTC:20241030T130000
DTEND;TZID=UTC:20241030T160000
DTSTAMP:20260421T144413
CREATED:20240912T082148Z
LAST-MODIFIED:20240912T082148Z
UID:2905-1730293200-1730304000@stbarnabascentre.co.uk
SUMMARY:Pumpkin Heroes Party
DESCRIPTION:Join us for our Pumpkin Heroes Party. Tickets from Amanda 01246 250599 or email events@stbarnabascentre.co.uk
URL:https://stbarnabascentre.co.uk/events/pumpkin-heroes-party
ATTACH;FMTTYPE=image/jpeg:https://stbarnabascentre.co.uk/wp-content/uploads/2024/09/Pumpkin-Heros.jpg
END:VEVENT
BEGIN:VEVENT
DTSTART;TZID=UTC:20241021T090000
DTEND;TZID=UTC:20241021T130000
DTSTAMP:20260421T144413
CREATED:20230906T102543Z
LAST-MODIFIED:20241015T080948Z
UID:1573-1729501200-1729515600@stbarnabascentre.co.uk
SUMMARY:Coffee Morning
DESCRIPTION:Coffee and Cake at St Barnabas
URL:https://stbarnabascentre.co.uk/events/coffee-morning
ATTACH;FMTTYPE=image/jpeg:https://stbarnabascentre.co.uk/wp-content/uploads/2024/10/Coffee-morning-scaled.jpg
END:VEVENT
BEGIN:VEVENT
DTSTART;TZID=UTC:20240925T190000
DTEND;TZID=UTC:20240925T220000
DTSTAMP:20260421T144413
CREATED:20240806T113318Z
LAST-MODIFIED:20240910T083837Z
UID:2779-1727290800-1727301600@stbarnabascentre.co.uk
SUMMARY:A Taste of Italy - Cancelled
DESCRIPTION:Forget cooking! – Come and enjoy an evening of Italian food at your local Community Centre. Bar open. \nSadly due to lack of demand this event has been cancelled.
URL:https://stbarnabascentre.co.uk/events/a-taste-of-italy
ATTACH;FMTTYPE=image/jpeg:https://stbarnabascentre.co.uk/wp-content/uploads/2024/08/A-Taste-of-Italy-3-scaled.jpg
END:VEVENT
BEGIN:VEVENT
DTSTART;TZID=UTC:20240822T100000
DTEND;TZID=UTC:20240822T140000
DTSTAMP:20260421T144413
CREATED:20230906T104407Z
LAST-MODIFIED:20240320T125058Z
UID:1596-1724320800-1724335200@stbarnabascentre.co.uk
SUMMARY:Fun Factory
DESCRIPTION: 
URL:https://stbarnabascentre.co.uk/events/fun-factory-9
ATTACH;FMTTYPE=image/jpeg:https://stbarnabascentre.co.uk/wp-content/uploads/2024/03/2024-Fun-factory-no-date.jpg
END:VEVENT
BEGIN:VEVENT
DTSTART;TZID=UTC:20240815T100000
DTEND;TZID=UTC:20240815T140000
DTSTAMP:20260421T144413
CREATED:20230906T104335Z
LAST-MODIFIED:20240320T125141Z
UID:1594-1723716000-1723730400@stbarnabascentre.co.uk
SUMMARY:Fun Factory
DESCRIPTION: 
URL:https://stbarnabascentre.co.uk/events/fun-factory-8
ATTACH;FMTTYPE=image/jpeg:https://stbarnabascentre.co.uk/wp-content/uploads/2024/03/2024-Fun-factory-no-date.jpg
END:VEVENT
BEGIN:VEVENT
DTSTART;TZID=UTC:20240808T100000
DTEND;TZID=UTC:20240808T140000
DTSTAMP:20260421T144413
CREATED:20230906T104300Z
LAST-MODIFIED:20240320T125204Z
UID:1592-1723111200-1723125600@stbarnabascentre.co.uk
SUMMARY:Fun Factory
DESCRIPTION: 
URL:https://stbarnabascentre.co.uk/events/fun-factory-7
ATTACH;FMTTYPE=image/jpeg:https://stbarnabascentre.co.uk/wp-content/uploads/2024/03/2024-Fun-factory-no-date.jpg
END:VEVENT
BEGIN:VEVENT
DTSTART;TZID=UTC:20240803T120000
DTEND;TZID=UTC:20240803T160000
DTSTAMP:20260421T144413
CREATED:20240412T102945Z
LAST-MODIFIED:20240412T103018Z
UID:2323-1722686400-1722700800@stbarnabascentre.co.uk
SUMMARY:Free Community Fun day
DESCRIPTION:Come along to our Free Community Fun Day! \nBouncy Castle\, Face Painting\, Music\, Games\, Soft Play and Ice Cream Van. \nEverything you need to entertain your kids! \n 
URL:https://stbarnabascentre.co.uk/events/free-community-fun-day
ATTACH;FMTTYPE=image/jpeg:https://stbarnabascentre.co.uk/wp-content/uploads/2024/04/Community-Fun-Day-scaled.jpg
END:VEVENT
END:VCALENDAR