BEGIN:VCALENDAR
VERSION:2.0
PRODID:-//St Barnabas - ECPv6.15.20//NONSGML v1.0//EN
CALSCALE:GREGORIAN
METHOD:PUBLISH
X-ORIGINAL-URL:https://stbarnabascentre.co.uk
X-WR-CALDESC:Events for St Barnabas
REFRESH-INTERVAL;VALUE=DURATION:PT1H
X-Robots-Tag:noindex
X-PUBLISHED-TTL:PT1H
BEGIN:VTIMEZONE
TZID:UTC
BEGIN:STANDARD
TZOFFSETFROM:+0000
TZOFFSETTO:+0000
TZNAME:UTC
DTSTART:20240101T000000
END:STANDARD
END:VTIMEZONE
BEGIN:VEVENT
DTSTART;TZID=UTC:20251122T100000
DTEND;TZID=UTC:20251122T140000
DTSTAMP:20260421T112956
CREATED:20250901T110844Z
LAST-MODIFIED:20250901T110844Z
UID:3103-1763805600-1763820000@stbarnabascentre.co.uk
SUMMARY:Christmas Market
DESCRIPTION:Need some ideas for Christmas presents?  – look no further
URL:https://stbarnabascentre.co.uk/events/christmas-market-2
ATTACH;FMTTYPE=image/jpeg:https://stbarnabascentre.co.uk/wp-content/uploads/2025/09/Christmas-Market-22-Nov-2025-scaled.jpg
END:VEVENT
BEGIN:VEVENT
DTSTART;TZID=UTC:20251110T080000
DTEND;TZID=UTC:20251116T170000
DTSTAMP:20260421T112956
CREATED:20251006T104254Z
LAST-MODIFIED:20251006T104254Z
UID:3127-1762761600-1763312400@stbarnabascentre.co.uk
SUMMARY:Operation Christmas Child
DESCRIPTION:The St Barnabas Centre is once again a collection point for shoe boxes for Operation Christmas Child. Please bring your filled shoe boxes down to the Centre during this week and by latest Sunday 16th November.  Thank you
URL:https://stbarnabascentre.co.uk/events/operation-christmas-child
ATTACH;FMTTYPE=image/jpeg:https://stbarnabascentre.co.uk/wp-content/uploads/2025/10/Operation-Christmas-Child-scaled.jpg
END:VEVENT
BEGIN:VEVENT
DTSTART;TZID=UTC:20251108T183000
DTEND;TZID=UTC:20251108T210000
DTSTAMP:20260421T112956
CREATED:20250901T110723Z
LAST-MODIFIED:20250901T112814Z
UID:3101-1762626600-1762635600@stbarnabascentre.co.uk
SUMMARY:Quiz Night
DESCRIPTION:Fun Quiz night with an evening meal thrown in. What is not to like. That is the question!
URL:https://stbarnabascentre.co.uk/events/quiz-night-3
ATTACH;FMTTYPE=image/jpeg:https://stbarnabascentre.co.uk/wp-content/uploads/2025/09/Quiz-night-8-Nov-2025-scaled.jpg
END:VEVENT
BEGIN:VEVENT
DTSTART;TZID=UTC:20251018T163000
DTEND;TZID=UTC:20251018T183000
DTSTAMP:20260421T112956
CREATED:20250901T110406Z
LAST-MODIFIED:20250901T110437Z
UID:3098-1760805000-1760812200@stbarnabascentre.co.uk
SUMMARY:Pumpkin Hero's Party
DESCRIPTION:Pumpkin Hero’s Party at St Barnabas
URL:https://stbarnabascentre.co.uk/events/pumpkins-heros-party
ATTACH;FMTTYPE=image/jpeg:https://stbarnabascentre.co.uk/wp-content/uploads/2025/09/Pumpkin-Heros.jpg
END:VEVENT
BEGIN:VEVENT
DTSTART;TZID=UTC:20250929T090000
DTEND;TZID=UTC:20250929T130000
DTSTAMP:20260421T112956
CREATED:20250908T113520Z
LAST-MODIFIED:20250908T113520Z
UID:3119-1759136400-1759150800@stbarnabascentre.co.uk
SUMMARY:Coffee Morning and Bake Sale
DESCRIPTION:Come and start the week with a sociable Coffee and Cake . . .
URL:https://stbarnabascentre.co.uk/events/coffee-morning-and-bake-sale
ATTACH;FMTTYPE=image/jpeg:https://stbarnabascentre.co.uk/wp-content/uploads/2025/09/Coffee-Morning.jpeg
END:VEVENT
BEGIN:VEVENT
DTSTART;TZID=UTC:20250918T183000
DTEND;TZID=UTC:20250918T200000
DTSTAMP:20260421T112956
CREATED:20250901T111711Z
LAST-MODIFIED:20250901T111711Z
UID:3114-1758220200-1758225600@stbarnabascentre.co.uk
SUMMARY:Danesmoor Youth Group
DESCRIPTION:Danesmoor Youth Group restarts this autumn on Thursday 18th September and then every Thursday in term time.
URL:https://stbarnabascentre.co.uk/events/danesmoor-youth-group
ATTACH;FMTTYPE=image/jpeg:https://stbarnabascentre.co.uk/wp-content/uploads/2025/09/Youth-Group.jpg
END:VEVENT
BEGIN:VEVENT
DTSTART;TZID=UTC:20250917T110000
DTEND;TZID=UTC:20250917T130000
DTSTAMP:20260421T112956
CREATED:20250901T111924Z
LAST-MODIFIED:20250901T111924Z
UID:3116-1758106800-1758114000@stbarnabascentre.co.uk
SUMMARY:Food For Thought
DESCRIPTION:Food for Thought restarts on 17th September. \nA meal for those who need it
URL:https://stbarnabascentre.co.uk/events/food-for-thought-5
ATTACH;FMTTYPE=image/jpeg:https://stbarnabascentre.co.uk/wp-content/uploads/2025/04/Food-for-thought-1-scaled.jpg
END:VEVENT
BEGIN:VEVENT
DTSTART;TZID=UTC:20250903T100000
DTEND;TZID=UTC:20250903T140000
DTSTAMP:20260421T112956
CREATED:20250722T082549Z
LAST-MODIFIED:20250722T082549Z
UID:3082-1756893600-1756908000@stbarnabascentre.co.uk
SUMMARY:Fun Factory
DESCRIPTION:Last Fun Factory of the summer holidays. Don’t miss it!
URL:https://stbarnabascentre.co.uk/events/fun-factory-20
ATTACH;FMTTYPE=image/jpeg:https://stbarnabascentre.co.uk/wp-content/uploads/2025/04/Fun-Factory-Wednesday-Support-scaled.jpg
END:VEVENT
BEGIN:VEVENT
DTSTART;TZID=UTC:20250827T100000
DTEND;TZID=UTC:20250827T140000
DTSTAMP:20260421T112956
CREATED:20250722T082445Z
LAST-MODIFIED:20250722T082445Z
UID:3080-1756288800-1756303200@stbarnabascentre.co.uk
SUMMARY:Fun Factory
DESCRIPTION:More bouncing around on the castle for your little ones . .
URL:https://stbarnabascentre.co.uk/events/fun-factory-19
ATTACH;FMTTYPE=image/jpeg:https://stbarnabascentre.co.uk/wp-content/uploads/2025/04/Fun-Factory-Wednesday-Support-scaled.jpg
END:VEVENT
BEGIN:VEVENT
DTSTART;TZID=UTC:20250820T100000
DTEND;TZID=UTC:20250820T140000
DTSTAMP:20260421T112956
CREATED:20250722T082340Z
LAST-MODIFIED:20250722T082340Z
UID:3078-1755684000-1755698400@stbarnabascentre.co.uk
SUMMARY:Fun Factory
DESCRIPTION:Bring your small ones down for a bounce on the bouncy castle
URL:https://stbarnabascentre.co.uk/events/fun-factory-18
ATTACH;FMTTYPE=image/jpeg:https://stbarnabascentre.co.uk/wp-content/uploads/2025/04/Fun-Factory-Wednesday-Support-scaled.jpg
END:VEVENT
BEGIN:VEVENT
DTSTART;TZID=UTC:20250820T100000
DTEND;TZID=UTC:20250820T140000
DTSTAMP:20260421T112956
CREATED:20250722T082221Z
LAST-MODIFIED:20250722T082221Z
UID:3076-1755684000-1755698400@stbarnabascentre.co.uk
SUMMARY:Fun Factory
DESCRIPTION:More Fun at St  Barnabas
URL:https://stbarnabascentre.co.uk/events/fun-factory-17
ATTACH;FMTTYPE=image/jpeg:https://stbarnabascentre.co.uk/wp-content/uploads/2025/04/Fun-Factory-Wednesday-Support-scaled.jpg
END:VEVENT
BEGIN:VEVENT
DTSTART;TZID=UTC:20250813T100000
DTEND;TZID=UTC:20250813T140000
DTSTAMP:20260421T112956
CREATED:20250722T082127Z
LAST-MODIFIED:20250722T082127Z
UID:3074-1755079200-1755093600@stbarnabascentre.co.uk
SUMMARY:Fun Factory
DESCRIPTION:Even more fun at St Barnabas
URL:https://stbarnabascentre.co.uk/events/fun-factory-16
ATTACH;FMTTYPE=image/jpeg:https://stbarnabascentre.co.uk/wp-content/uploads/2025/04/Fun-Factory-Wednesday-Support-scaled.jpg
END:VEVENT
BEGIN:VEVENT
DTSTART;TZID=UTC:20250806T100000
DTEND;TZID=UTC:20250806T140000
DTSTAMP:20260421T112956
CREATED:20250722T081557Z
LAST-MODIFIED:20250801T090743Z
UID:3070-1754474400-1754488800@stbarnabascentre.co.uk
SUMMARY:Fun Factory - CANCELLED
DESCRIPTION:Come down for some more Summer Fun at St Barnabas
URL:https://stbarnabascentre.co.uk/events/fun-factory-15
ATTACH;FMTTYPE=image/jpeg:https://stbarnabascentre.co.uk/wp-content/uploads/2025/04/Fun-Factory-Wednesday-Support-scaled.jpg
END:VEVENT
BEGIN:VEVENT
DTSTART;TZID=UTC:20250730T100000
DTEND;TZID=UTC:20250730T140000
DTSTAMP:20260421T112956
CREATED:20250722T081450Z
LAST-MODIFIED:20250722T081450Z
UID:3068-1753869600-1753884000@stbarnabascentre.co.uk
SUMMARY:Fun Factory
DESCRIPTION:Summer Fun at St Barnabas
URL:https://stbarnabascentre.co.uk/events/fun-factory-14
ATTACH;FMTTYPE=image/jpeg:https://stbarnabascentre.co.uk/wp-content/uploads/2025/04/Fun-Factory-Wednesday-Support-scaled.jpg
END:VEVENT
BEGIN:VEVENT
DTSTART;TZID=UTC:20250719T100000
DTEND;TZID=UTC:20250719T160000
DTSTAMP:20260421T112956
CREATED:20250411T121117Z
LAST-MODIFIED:20250411T121117Z
UID:3019-1752919200-1752940800@stbarnabascentre.co.uk
SUMMARY:St Barnabas' Summer Fun Day
DESCRIPTION:Come and join in the fun at the St Barnabas Summer Fun Day
URL:https://stbarnabascentre.co.uk/events/st-barnabas-summer-fun-day
ATTACH;FMTTYPE=image/jpeg:https://stbarnabascentre.co.uk/wp-content/uploads/2025/04/Summer-Fair-2025-scaled.jpg
END:VEVENT
BEGIN:VEVENT
DTSTART;TZID=UTC:20250705T183000
DTEND;TZID=UTC:20250705T220000
DTSTAMP:20260421T112956
CREATED:20250106T105813Z
LAST-MODIFIED:20250425T103133Z
UID:2943-1751740200-1751752800@stbarnabascentre.co.uk
SUMMARY:Quiz Night
DESCRIPTION:Join us for our regular quiz night. Bring a team or come and join a team. Price includes a two course meal.
URL:https://stbarnabascentre.co.uk/events/quiz-night-2
ATTACH;FMTTYPE=image/jpeg:https://stbarnabascentre.co.uk/wp-content/uploads/2025/04/Quiz-night-July-5-2025.jpeg
END:VEVENT
BEGIN:VEVENT
DTSTART;TZID=UTC:20250528T100000
DTEND;TZID=UTC:20250528T140000
DTSTAMP:20260421T112956
CREATED:20250306T090545Z
LAST-MODIFIED:20250425T103227Z
UID:3005-1748426400-1748440800@stbarnabascentre.co.uk
SUMMARY:Fun Factory
DESCRIPTION:Come and create some more fun at the St Barnabas Fun Factory
URL:https://stbarnabascentre.co.uk/events/fun-factory-13
ATTACH;FMTTYPE=image/jpeg:https://stbarnabascentre.co.uk/wp-content/uploads/2025/03/Fun-Factory-Wednesday-Support-scaled.jpg
END:VEVENT
BEGIN:VEVENT
DTSTART;TZID=UTC:20250514T110000
DTEND;TZID=UTC:20250514T130000
DTSTAMP:20260421T112956
CREATED:20250404T131300Z
LAST-MODIFIED:20250425T103514Z
UID:3015-1747220400-1747227600@stbarnabascentre.co.uk
SUMMARY:Food for Thought
DESCRIPTION:A place to come together\, have a meal and get to meet new people.
URL:https://stbarnabascentre.co.uk/events/food-for-thought-3
ATTACH;FMTTYPE=image/jpeg:https://stbarnabascentre.co.uk/wp-content/uploads/2025/04/Food-for-thought-scaled.jpg
END:VEVENT
BEGIN:VEVENT
DTSTART;TZID=UTC:20250507T110000
DTEND;TZID=UTC:20250507T130000
DTSTAMP:20260421T112956
CREATED:20250404T131338Z
LAST-MODIFIED:20250425T103352Z
UID:3017-1746615600-1746622800@stbarnabascentre.co.uk
SUMMARY:Food for Thought
DESCRIPTION:A place to come together\, have a meal and get to meet new people.
URL:https://stbarnabascentre.co.uk/events/food-for-thought-4
ATTACH;FMTTYPE=image/jpeg:https://stbarnabascentre.co.uk/wp-content/uploads/2025/04/Food-for-thought-scaled.jpg
END:VEVENT
BEGIN:VEVENT
DTSTART;VALUE=DATE:20250419
DTEND;VALUE=DATE:20250420
DTSTAMP:20260421T112956
CREATED:20250106T110747Z
LAST-MODIFIED:20250106T110747Z
UID:2947-1745020800-1745107199@stbarnabascentre.co.uk
SUMMARY:Breakfast with the Easter Bunny
DESCRIPTION:Come and have breakfast with the Easter Bunny on Saturday 19th April \nA choice of 2 breakfasts : 9 – 10 am  or 10.30 – 11.30 \nBook your tickets at the Centre.
URL:https://stbarnabascentre.co.uk/events/breakfast-with-the-easter-bunny
ATTACH;FMTTYPE=image/png:https://stbarnabascentre.co.uk/wp-content/uploads/2025/01/breakfast-with-easter-bunny.png
END:VEVENT
BEGIN:VEVENT
DTSTART;TZID=UTC:20250416T110000
DTEND;TZID=UTC:20250416T130000
DTSTAMP:20260421T112956
CREATED:20250404T131214Z
LAST-MODIFIED:20250404T131214Z
UID:3013-1744801200-1744808400@stbarnabascentre.co.uk
SUMMARY:Food for Thought
DESCRIPTION:A place to come together\, have a meal and get to know new people.
URL:https://stbarnabascentre.co.uk/events/food-for-thought-2
ATTACH;FMTTYPE=image/jpeg:https://stbarnabascentre.co.uk/wp-content/uploads/2025/04/Food-for-thought-scaled.jpg
END:VEVENT
BEGIN:VEVENT
DTSTART;TZID=UTC:20250412T140000
DTEND;TZID=UTC:20250412T160000
DTSTAMP:20260421T112956
CREATED:20250106T110040Z
LAST-MODIFIED:20250106T110040Z
UID:2945-1744466400-1744473600@stbarnabascentre.co.uk
SUMMARY:Easter Egg Hunt Party
DESCRIPTION:Come and join the Easter Egg Hunt party. Children of all ages welcome.
URL:https://stbarnabascentre.co.uk/events/easter-egg-hunt-party
ATTACH;FMTTYPE=image/png:https://stbarnabascentre.co.uk/wp-content/uploads/2025/01/Pink-Yellow-Orange-Colorful-Easter-Egg-Hunt-Flyer.png
END:VEVENT
BEGIN:VEVENT
DTSTART;TZID=UTC:20250409T110000
DTEND;TZID=UTC:20250409T130000
DTSTAMP:20260421T112956
CREATED:20250404T131100Z
LAST-MODIFIED:20250404T131115Z
UID:3011-1744196400-1744203600@stbarnabascentre.co.uk
SUMMARY:Food for Thought
DESCRIPTION:A place to come together\, have a meal and get to know new people.
URL:https://stbarnabascentre.co.uk/events/food-for-thought
ATTACH;FMTTYPE=image/jpeg:https://stbarnabascentre.co.uk/wp-content/uploads/2025/04/Food-for-thought-scaled.jpg
END:VEVENT
BEGIN:VEVENT
DTSTART;TZID=UTC:20250409T100000
DTEND;TZID=UTC:20250409T140000
DTSTAMP:20260421T112956
CREATED:20250306T090446Z
LAST-MODIFIED:20250306T090446Z
UID:3002-1744192800-1744207200@stbarnabascentre.co.uk
SUMMARY:Fun Factory
DESCRIPTION:Come and create some fun at the St Barnabas Fun Factory
URL:https://stbarnabascentre.co.uk/events/fun-factory-12
ATTACH;FMTTYPE=image/jpeg:https://stbarnabascentre.co.uk/wp-content/uploads/2025/03/Fun-Factory-Wednesday-Support-scaled.jpg
END:VEVENT
BEGIN:VEVENT
DTSTART;TZID=UTC:20250408T163000
DTEND;TZID=UTC:20250408T180000
DTSTAMP:20260421T112956
CREATED:20250305T100851Z
LAST-MODIFIED:20250305T100851Z
UID:2999-1744129800-1744135200@stbarnabascentre.co.uk
SUMMARY:St Barnabas Centre AGM
DESCRIPTION:The Annual General Meeting of the St Barnabas Centre will take place on Tuesday 8th April at 4.30pm \n  \n 
URL:https://stbarnabascentre.co.uk/events/st-barnabas-centre-agm
ATTACH;FMTTYPE=image/jpeg:https://stbarnabascentre.co.uk/wp-content/uploads/2025/03/AGM-2025-Poster.jpg
END:VEVENT
BEGIN:VEVENT
DTSTART;TZID=UTC:20250329T100000
DTEND;TZID=UTC:20250329T140000
DTSTAMP:20260421T112956
CREATED:20250107T093039Z
LAST-MODIFIED:20250107T093039Z
UID:2952-1743242400-1743256800@stbarnabascentre.co.uk
SUMMARY:Easter Fair
DESCRIPTION:Join us for our Easter Fair with the Easter Bunny
URL:https://stbarnabascentre.co.uk/events/easter-fair
ATTACH;FMTTYPE=image/jpeg:https://stbarnabascentre.co.uk/wp-content/uploads/2025/01/Easter-Fair-Poster.jpg
END:VEVENT
BEGIN:VEVENT
DTSTART;TZID=UTC:20250315T193000
DTEND;TZID=UTC:20250315T213000
DTSTAMP:20260421T112956
CREATED:20250131T095935Z
LAST-MODIFIED:20250131T095935Z
UID:2986-1742067000-1742074200@stbarnabascentre.co.uk
SUMMARY:An Evening with James Cary
DESCRIPTION:Come and enjoy an evening with James Cary\, BBC comedy writer\, while he talks about God\, The Bible and Everything.
URL:https://stbarnabascentre.co.uk/events/an-evening-with-james-cary
ATTACH;FMTTYPE=image/png:https://stbarnabascentre.co.uk/wp-content/uploads/2025/01/James-Cary-Poster-v3-002.png
END:VEVENT
BEGIN:VEVENT
DTSTART;TZID=UTC:20250309T160000
DTEND;TZID=UTC:20250309T170000
DTSTAMP:20260421T112956
CREATED:20250206T145152Z
LAST-MODIFIED:20250206T145152Z
UID:2997-1741536000-1741539600@stbarnabascentre.co.uk
SUMMARY:St Barnabas @4
DESCRIPTION:
URL:https://stbarnabascentre.co.uk/events/st-barnabas-4-3
ATTACH;FMTTYPE=image/jpeg:https://stbarnabascentre.co.uk/wp-content/uploads/2025/02/Barnabas@4-Portrait.jpg
END:VEVENT
BEGIN:VEVENT
DTSTART;TZID=UTC:20250302T160000
DTEND;TZID=UTC:20250302T170000
DTSTAMP:20260421T112956
CREATED:20250206T145111Z
LAST-MODIFIED:20250206T145111Z
UID:2995-1740931200-1740934800@stbarnabascentre.co.uk
SUMMARY:St Barnabas @4
DESCRIPTION:
URL:https://stbarnabascentre.co.uk/events/st-barnabas-4-2
ATTACH;FMTTYPE=image/jpeg:https://stbarnabascentre.co.uk/wp-content/uploads/2025/02/Barnabas@4-Portrait.jpg
END:VEVENT
BEGIN:VEVENT
DTSTART;TZID=UTC:20250223T160000
DTEND;TZID=UTC:20250223T170000
DTSTAMP:20260421T112956
CREATED:20250206T144543Z
LAST-MODIFIED:20250206T145003Z
UID:2992-1740326400-1740330000@stbarnabascentre.co.uk
SUMMARY:St Barnabas @ 4
DESCRIPTION:
URL:https://stbarnabascentre.co.uk/events/st-barnabas-4
ATTACH;FMTTYPE=image/jpeg:https://stbarnabascentre.co.uk/wp-content/uploads/2025/02/Barnabas@4-Portrait.jpg
END:VEVENT
END:VCALENDAR